BEGIN:VCALENDAR
VERSION:2.0
PRODID:gruene-herne.de
METHOD:PUBLISH
BEGIN:VTIMEZONE
TZID:Europe/Berlin
X-LIC-LOCATION:Europe/Berlin
BEGIN:DAYLIGHT
TZOFFSETFROM:+0100
TZOFFSETTO:+0200
TZNAME:CEST
DTSTART:19700329T020000
RRULE:FREQ=YEARLY;INTERVAL=1;BYDAY=-1SU;BYMONTH=3
END:DAYLIGHT
BEGIN:STANDARD
TZOFFSETFROM:+0200
TZOFFSETTO:+0100
TZNAME:CET
DTSTART:19701025T030000
RRULE:FREQ=YEARLY;INTERVAL=1;BYDAY=-1SU;BYMONTH=10
END:STANDARD
END:VTIMEZONE
BEGIN:VEVENT
UID:2e7bb8b9e21996d44332a28869133a3d@gruene-herne.de
URL;VALUE=URI:https://gruene-herne.de/termine/gruener-stand-auf-dem-ratha
 usplatz/
LOCATION:
SUMMARY:GRÜNER Stand auf dem Rathausplatz
DESCRIPTION;ALTREP="data:text/html,%3Cp%3E10%3A00%20Aufbau%3Cbr%3E11%3A00
 %20Beginn%20der%20Veranstaltung%3Cbr%3E15%3A00%20Ende%20und%20Abbau%3C%2F
 p%3E":10:00 Aufbau11:00 Beginn der Veranstaltung15:00 Ende und Abbau
CLASS:PUBLIC
DTSTART;TZID=Europe/Berlin:20260501T100000
DTEND;TZID=Europe/Berlin:20260501T150000
DTSTAMP:20260422T140805
END:VEVENT
END:VCALENDAR