BEGIN:VCALENDAR
VERSION:2.0
PRODID:gruene-herne.de
METHOD:PUBLISH
BEGIN:VTIMEZONE
TZID:Europe/Berlin
X-LIC-LOCATION:Europe/Berlin
BEGIN:DAYLIGHT
TZOFFSETFROM:+0100
TZOFFSETTO:+0200
TZNAME:CEST
DTSTART:19700329T020000
RRULE:FREQ=YEARLY;INTERVAL=1;BYDAY=-1SU;BYMONTH=3
END:DAYLIGHT
BEGIN:STANDARD
TZOFFSETFROM:+0200
TZOFFSETTO:+0100
TZNAME:CET
DTSTART:19701025T030000
RRULE:FREQ=YEARLY;INTERVAL=1;BYDAY=-1SU;BYMONTH=10
END:STANDARD
END:VTIMEZONE
BEGIN:VEVENT
UID:d89cbcb75f51a582c1be4d2be06a1626@gruene-herne.de
URL;VALUE=URI:https://gruene-herne.de/termine/stammtisch-im-wirtshaus/
LOCATION:Robert-Brauner-Platz 3, Herne-Mitte
SUMMARY:Stammtisch im Wirtshaus
DESCRIPTION;ALTREP="data:text/html,%3Cp%3E%3C%2Fp%3E":
CLASS:PUBLIC
DTSTART;TZID=Europe/Berlin:20260504T190000
DTEND;TZID=Europe/Berlin:20260504T210000
DTSTAMP:20260422T140002
END:VEVENT
END:VCALENDAR