BEGIN:VCALENDAR
VERSION:2.0
PRODID:gruene-herne.de
METHOD:PUBLISH
BEGIN:VTIMEZONE
TZID:Europe/Berlin
X-LIC-LOCATION:Europe/Berlin
BEGIN:DAYLIGHT
TZOFFSETFROM:+0100
TZOFFSETTO:+0200
TZNAME:CEST
DTSTART:19700329T020000
RRULE:FREQ=YEARLY;INTERVAL=1;BYDAY=-1SU;BYMONTH=3
END:DAYLIGHT
BEGIN:STANDARD
TZOFFSETFROM:+0200
TZOFFSETTO:+0100
TZNAME:CET
DTSTART:19701025T030000
RRULE:FREQ=YEARLY;INTERVAL=1;BYDAY=-1SU;BYMONTH=10
END:STANDARD
END:VTIMEZONE
BEGIN:VEVENT
UID:c104b47da2c47a122a395057cfb7ddf4@gruene-herne.de
URL;VALUE=URI:https://gruene-herne.de/termine/start-stadtradeln-bis-12-ju
 ni/
LOCATION:
SUMMARY:Start Stadtradeln (bis 12. Juni)
DESCRIPTION;ALTREP="data:text/html,%3Cp%3E%3Cdiv%20class%3D%22moz-forward
 -container%22%3EDas%20STADTRADELN%202026%20geht%20am%2023.05.%20wieder%20
 los%21%20Herzlich%3Cbr%20%2F%3E%0A%20%20%20%20%20%20eingeladen%20zum%20Mi
 tmachen%20sind%20auch%20dieses%20Mal%20wieder%20Familie%20und%3Cbr%20%2F%
 3E%0A%20%20%20%20%20%20eure%20Freund%2Ainnen%20%3A%29%21%3Cbr%3E%3Cbr%20%
 2F%3E%0A%20%20%20%20%20%20%3Cbr%3E%3Cbr%20%2F%3E%0A%20%20%20%20%20%20%3Cb
 %3EWer%20kann%20mitmachen%3F%3C%2Fb%3E%3Cbr%3EAlle%2C%20die%20in%20Herne%
 20wohnen%2C%20arbeiten%2C%20vor%20Ort%20in%20einem%20Verein%3Cbr%20%2F%3E
 %0A%20%20%20%20%20%20t%C3%A4tig%2FVereinsmitglied%20sind%20oder%20dort%20
 eine%20%28Hoch%29Schule%20besuchen.%3Cbr%3E%3Cbr%20%2F%3E%0A%20%20%20%20%
 20%20%3Cb%3EWann%3F%3C%2Fb%3E%3Cbr%3E23.05.%20bis%2012.06.2025%3Cbr%3E%3C
 br%20%2F%3E%0A%20%20%20%20%20%20%3Cb%3EWo%20melde%20ich%20mich%20f%C3%BCr
 %20die%20GR%C3%9CNEN%20an%3F%3C%2Fb%3E%3Cbr%3E%3Cbr%20%2F%3E%0A%20%20%20%
 20%20%20--%26gt%3B%3Cbr%20%2F%3E%0A%3Ca%20class%3D%22moz-txt-link-freetex
 t%22%20href%3D%22https%3A%2F%2Fwww.stadtradeln.de%2Findex.php%3Fid%3D171%
 26amp%3BL%3D0%26amp%3Bteam_preselect%3D15997%22%3Ehttps%3A%2F%2Fwww.stadt
 radeln.de%2Findex.php%3Fid%3D171%26amp%3BL%3D0%26amp%3Bteam_preselect%3D2
 6151%3C%2Fa%3E%3Cbr%3E%3Cbr%20%2F%3E%0A%20%20%20%20%20%20Ihr%20m%C3%BCsst
 %20dazu%20einen%20Account%20bei%20stadtradeln.de%2Fregistrieren%3Cbr%20%2
 F%3E%0A%20%20%20%20%20%20eingerichtet%20haben.%3Cbr%3E%3Cbr%20%2F%3E%0A%2
 0%20%20%20%20%20%3Cb%3EWas%20ist%20noch%20wichtig%3F%3C%2Fb%3E%3Cbr%3E%3C
 br%20%2F%3E%0A%20%20%20%20%20%20Am%20einfachsten%20z%C3%A4hlt%20ihr%20eur
 e%20gefahrenen%20Kilometer%20%C3%BCber%20GPS%20bzw.%3Cbr%20%2F%3E%0A%20%2
 0%20%20%20%20die%20App%20-%20das%20Herunterladen%20der%20STADTRADELN-App%
 20lohnt%20sich%20also.%3Cbr%3E%3Cbr%20%2F%3E%0A%20%20%20%20%20%20Das%20Ga
 nze%20geschieht%20auf%20Vertrauensbasis%3A%20Als%20GR%C3%9CNE%20besitzen%
 20wir%3Cbr%20%2F%3E%0A%20%20%20%20%20%20den%20Anspruch%2C%20auch%20nur%20
 tats%C3%A4chlich%20gefahrene%20Kilometer%20einzutragen%3Cbr%20%2F%3E%0A%2
 0%20%20%20%20%20%3A%29.%3Cbr%3E%3Cbr%20%2F%3E%0A%20%20%20%20%20%20Es%20k%
 C3%B6nnen%20wie%20immer%20auch%20Kilometer%20f%C3%BCr%20mehrere%20Radelnd
 e%20%28z.B.%3Cbr%20%2F%3E%0A%20%20%20%20%20%20Familienmitglieder%2FFreund
 %2Ainnen%29%20im%20selben%20Account%20eingetragen%3Cbr%20%2F%3E%0A%20%20%
 20%20%20%20werden%2C%20DANN%20muss%20aber%20die%20genaue%20Anzahl%20an%20
 Personen%20unter%3Cbr%20%2F%3E%0A%20%20%20%20%20%20%22Einstellungen%22%20
 angegeben%20werden.%3C%2Fdiv%3E%3Cbr%20%2F%3E%0A%20%20%20%20%3Cdiv%20clas
 s%3D%22moz-forward-container%22%3E%3Cbr%3E%3Cbr%20%2F%3E%0A%20%20%20%20%3
 C%2Fdiv%3E%3Cbr%20%2F%3E%0A%20%20%20%20%3Cdiv%20class%3D%22moz-forward-co
 ntainer%22%3EAlso%20schnell%20den%20Link%20zum%20Teambeitritt%20anklicken
 %20und%20auf%20geht%27s%21%3Cbr%3E%3Cbr%20%2F%3E%0A%20%20%20%20%20%20%3Cb
 r%3E%3Cbr%20%2F%3E%0A%20%20%20%20%20%20Auf%20ein%20erfolgreiches%20Radeln
 %21%3Cbr%3E%3Cbr%3E%3Cbr%20%2F%3E%0A%20%20%20%20%20%20Euer%20Teamkapit%C3
 %A4n%3Cbr%3EUli%3C%2Fdiv%3E%3C%2Fp%3E":Das STADTRADELN 2026 geht am 23.05
 . wieder los! Herzlich\n\n      eingeladen zum Mitmachen sind auch dieses
  Mal wieder Familie und\n\n      eure Freund*innen :)!\n\n      Wer kann 
 mitmachen?Alle\, die in Herne wohnen\, arbeiten\, vor Ort in einem Verein
 \n\n      tätig/Vereinsmitglied sind oder dort eine (Hoch)Schule besuche
 n.\n\n      Wann?23.05. bis 12.06.2025\n\n      Wo melde ich mich für di
 e GRÜNEN an?\n\n      -->\n\nhttps://www.stadtradeln.de/index.php?id=171
 &L=0&team_preselect=26151\n\n      Ihr müsst dazu einen Account bei stad
 tradeln.de/registrieren\n\n      eingerichtet haben.\n\n      Was ist noc
 h wichtig?\n\n      Am einfachsten zählt ihr eure gefahrenen Kilometer 
 über GPS bzw.\n\n      die App - das Herunterladen der STADTRADELN-App l
 ohnt sich also.\n\n      Das Ganze geschieht auf Vertrauensbasis: Als GR
 ÜNE besitzen wir\n\n      den Anspruch\, auch nur tatsächlich gefahrene
  Kilometer einzutragen\n\n      :).\n\n      Es können wie immer auch Ki
 lometer für mehrere Radelnde (z.B.\n\n      Familienmitglieder/Freund*in
 nen) im selben Account eingetragen\n\n      werden\, DANN muss aber die g
 enaue Anzahl an Personen unter\n\n      "Einstellungen" angegeben werden.
 \n\n    Also schnell den Link zum Teambeitritt anklicken und auf geht's!\
 n\n      Auf ein erfolgreiches Radeln!\n\n      Euer TeamkapitänUli
CLASS:PUBLIC
DTSTART;TZID=Europe/Berlin:20260523
DTEND;TZID=Europe/Berlin:20260524
DTSTAMP:20260423T223231
END:VEVENT
END:VCALENDAR